BEGIN:VCALENDAR
PRODID:-//eluceo/ical//2.0/EN
VERSION:2.0
CALSCALE:GREGORIAN
BEGIN:VEVENT
UID:2568cf5f405147fe687b5bdb5c12bdc1
DTSTAMP:20260425T152112Z
SUMMARY:Yom HaZikaron Ceremony and Dinner
DESCRIPTION:Jewish Life NJ\nOur Events \nhttps://jewishlifenj.org/our-event
 s/yom-hazikaron-ceremony-and-dinner-489803\n\n \n\nYom HaZikaron is the d
 ay of national remembrance in Israel to commemorate all the soldiers and p
 eople who lost their lives during the struggle to defend the State of Isra
 el. On this day we mourn and remember our fallen soldiers and all lives l
 ost by terror over the past 77 + years.\n\nThis year’s ceremony will al
 so honor the victims of the October 7 attacks and those who fought bravely
  to defend their homes and families.\n\nJoin us for a Ceremony and Dinner 
 starting at 6 pm.\n\nThis...
DTSTART;TZID=America/New_York:20250430T180000
DTEND;TZID=America/New_York:20250430T200000
END:VEVENT
END:VCALENDAR
