BEGIN:VCALENDAR
PRODID:-//eluceo/ical//2.0/EN
VERSION:2.0
CALSCALE:GREGORIAN
BEGIN:VEVENT
UID:2f803e35cf44f149738f50de35deaeb3
DTSTAMP:20260424T090035Z
SUMMARY:Women of Impact 2026
DESCRIPTION:Jewish Life NJ\nOur Events \nhttps://jewishlifenj.org/our-event
 s/women-of-impact-2026-514277\n\nSAVE the Date\n\nWomen of Impact is a cel
 ebration honoring five remarkable women from our community who embody the 
 core values that define the JCC.  We proudly celebrate these extraordinar
 y women for their kindness\, leadership\, and meaningful contributions to 
 the JCC and the people it serves.\n\nOur Women of Impact are Addie Kluger\
 , Linda Jerrow\, Natanya Levitz\, Margaret Hannon & Didi Shapiro
DTSTART;TZID=America/New_York:20261025T110000
DTEND;TZID=America/New_York:20261025T130000
END:VEVENT
END:VCALENDAR
