BEGIN:VCALENDAR
PRODID:-//eluceo/ical//2.0/EN
VERSION:2.0
CALSCALE:GREGORIAN
BEGIN:VEVENT
UID:1e1008bb594c661c5c873cf769fffba5
DTSTAMP:20260424T213750Z
SUMMARY:Voices Together: Commemorating October 7
DESCRIPTION:Jewish Life NJ\nOur Events \nhttps://jewishlifenj.org/our-event
 s/voices-together-commemorating-october-7-500150\n\nJoin us for a powerful
  evening of song\, connection\, and remembrance. Voices Together: Commemo
 rating October 7 draws inspiration from the Israeli tradition of Singing
  in the Square\; public community sing-alongs that take place in central c
 ity squares such as Rabin Square in Tel Aviv and Safra Square in Jerusalem
 .\n\nWhile often a festive cultural tradition\, Singing in the Square ta
 kes on a deeply moving and respectful tone during Israel’s national memo
 rial days. These gatherings bring c...
DTSTART;TZID=America/New_York:20250928T180000
DTEND;TZID=America/New_York:20250928T190000
END:VEVENT
END:VCALENDAR
