BEGIN:VCALENDAR
PRODID:-//eluceo/ical//2.0/EN
VERSION:2.0
CALSCALE:GREGORIAN
BEGIN:VEVENT
UID:0c55e68d3ec89d8bfe540d2ad3adcf71
DTSTAMP:20260423T182441Z
SUMMARY:Understanding the role of GLP-1 medications on overall Health
DESCRIPTION:Jewish Life NJ\nOur Events \nhttps://jewishlifenj.org/our-event
 s/understanding-the-role-of-glp-1-medications-on-overall-health-508724\n\n
 Understanding the role of GLP-1 medications on overall Health\n\n
  \n\nPresented by: Step Ahead Weight Loss & Wellness Center \n\n
 Corinne Chou\, MSN\, NP-C and Angela Federico MS\, RDN\n\n \n\nLe
 arn the role weight loss medications play in health and weight\n
 \n management—and why nutrition still matters. This presentation
  explores\n\n how GLP-1s work and how pairing them with balanced
  meals\, adequate\n\n protein\, and sustainable habi...
DTSTART;TZID=America/New_York:20260204T190000
DTEND;TZID=America/New_York:20260204T210000
END:VEVENT
END:VCALENDAR
