BEGIN:VCALENDAR
PRODID:-//eluceo/ical//2.0/EN
VERSION:2.0
CALSCALE:GREGORIAN
BEGIN:VEVENT
UID:3f482416bd8668740c928c30d8c5b0c6
DTSTAMP:20260425T185428Z
SUMMARY:THS Presents Tony Dokoupil
DESCRIPTION:Jewish Life NJ\nOur Events \nhttps://jewishlifenj.org/our-event
 s/ths-presents-tony-dokoupil-1742936332-488848\n\nIn honor of Rabbi Randi 
 Musnitsky’s Year of Celebration\, Legacy & Mazel\, Temple Har Shalom is 
 thrilled to welcome Tony Dokoupil on Tuesday\, April 22\, 2025.\n\nTony Do
 koupil is a critically acclaimed author and co-host of CBS MORNINGS\, a ke
 y part of the team delivering the first look at the day’s top stories. H
 e has co-anchored the program since 2016 from the sites of critical news e
 vents around the world and has interviewed a variety of major artists\, en
 tertainers and newsmakers. Join us...
DTSTART;TZID=America/New_York:20250422T193000
DTEND;TZID=America/New_York:20250422T213000
END:VEVENT
END:VCALENDAR
