BEGIN:VCALENDAR
PRODID:-//eluceo/ical//2.0/EN
VERSION:2.0
CALSCALE:GREGORIAN
BEGIN:VEVENT
UID:db90c57e805aa74c36f94f180df5727b
DTSTAMP:20260425T181345Z
SUMMARY:The Story of Anne Frank with Bright Star Theatre
DESCRIPTION:Jewish Life NJ\nOur Events \nhttps://jewishlifenj.org/our-event
 s/the-story-of-anne-frank-with-bright-star-theatre-482639\n\nON STAGE AT R
 VCC: The Story of Anne Frank with Bright Star Theatre. in person at RVCC a
 nd streaming online. World War II was a desperate and intense time for eve
 ryone\, but it was especially devastating to the Jewish people living unde
 r Nazi rule. Through direct accounts from Anne Frank’s diary and the hea
 rtfelt retelling of her story by her father\, Otto\, this production offer
 s an engaging and accessible approach to one of history’s darkest chapte
 rs. The courage of Anne Frank and her famil...
DTSTART;TZID=America/New_York:20250304T100000
DTEND;TZID=America/New_York:20250304T110000
END:VEVENT
END:VCALENDAR
