BEGIN:VCALENDAR
PRODID:-//eluceo/ical//2.0/EN
VERSION:2.0
CALSCALE:GREGORIAN
BEGIN:VEVENT
UID:e4f611c6729bbd3bf69433ec0a477d96
DTSTAMP:20260425T224941Z
SUMMARY:The Progressives’ Bible
DESCRIPTION:Jewish Life NJ\nOur Events \nhttps://jewishlifenj.org/our-event
 s/the-progressives-bible-1739910782-486523\n\nThe Bible has long been a so
 urce of political fervor in America\, both for conservative and progressiv
 e voices. Join professors Claudia Setzer (Manhattan University) and Gary A
 . Rendsburg (Rutgers University) for a conversation on how abolitionists\,
  women's rights supporters\, contemporary climate activists\, and other so
 cial reformers saw (and see) their struggles in the Bible's narratives and
  characters\, drawing on its verses to support their arguments. A leading 
 scholar of the Hebrew Bible an...
DTSTART;TZID=America/New_York:20250429T193000
DTEND;TZID=America/New_York:20250429T203000
END:VEVENT
END:VCALENDAR
