BEGIN:VCALENDAR
PRODID:-//eluceo/ical//2.0/EN
VERSION:2.0
CALSCALE:GREGORIAN
BEGIN:VEVENT
UID:50aecc6cccde857651efe82912ecb20e
DTSTAMP:20260425T182039Z
SUMMARY:"The Plot Against America" Book Review with Rabbi Katz
DESCRIPTION:Jewish Life NJ\nOur Events \nhttps://jewishlifenj.org/our-event
 s/the-plot-against-america-book-review-with-rabbi-katz-490782\n\nPhilip Ro
 th was 7 years old\, living in Newark\, NJ when Franklin Roosevelt was up 
 for election for a third term in 1940. Charles Lindbergh also ran for Pres
 ident that year. What would have happened had Lindbergh\, a Nazi sympathiz
 er\, won? What would have happened to Jews in America had the President of
  the United States forsaken the foundational values of America? When past 
 enemies become friends and past friends become enemies and anti-Semitism i
 ncreases exponentially\, Jews would have been in ...
DTSTART;TZID=America/New_York:20250506T190000
DTEND;TZID=America/New_York:20250506T203000
END:VEVENT
END:VCALENDAR
