BEGIN:VCALENDAR
PRODID:-//eluceo/ical//2.0/EN
VERSION:2.0
CALSCALE:GREGORIAN
BEGIN:VEVENT
UID:9e262198199edba0153c4afc57d5f473
DTSTAMP:20260423T143219Z
SUMMARY:The Most Human: Reconciling with My Father\, Leonard Nimoy
DESCRIPTION:Jewish Life NJ\nOur Events \nhttps://jewishlifenj.org/our-event
 s/the-most-human-reconciling-with-my-father-leonard-nimoy-514285\n\nWhat h
 appens when a father and son spend years missing each other\, then find th
 eir way back?\n\nAn Evening with Adam Nimoy\n\n\nMonday\, May 4\, 2026 | 7
 :00 PM\nModerated by Wally Yosafat\n$10 JCC members | $15 Community Membe
 rs\n\n\nIn The Most Human: Reconciling with My Father Leonard Nimoy\, Adam
  Nimoy shares the deeply personal story behind his complicated relationshi
 p with his father\, the late Leonard Nimoy of Star Trek fame. From divorc
 e and addiction to recovery and repair\, Adam expl...
DTSTART;TZID=America/New_York:20260504T190000
DTEND;TZID=America/New_York:20260504T203000
END:VEVENT
END:VCALENDAR
