BEGIN:VCALENDAR
PRODID:-//eluceo/ical//2.0/EN
VERSION:2.0
CALSCALE:GREGORIAN
BEGIN:VEVENT
UID:243a191a14dab5d2db2e437cb870577a
DTSTAMP:20260424T085759Z
SUMMARY:The Journey Back: A VR Experience
DESCRIPTION:Jewish Life NJ\nOur Events \nhttps://jewishlifenj.org/our-event
 s/the-journey-back-a-vr-experience-498257\n\nOctober 17 – November 13\, 
 2025\, The Journey Back: A VR Experience. On behalf of the Illinois Holo
 caust Museum\, in partnership with visionary VR producers East City Films\
 , we are thrilled to present The Journey Back: A VR Experience at RVCC.
  Featuring 3 Virtual Reality (VR) films: Letters from Drancy\, Walk to W
 esterbork\, and Escape to Shanghai. Audiences will “walk” with Holoca
 ust Survivors through childhood hometowns\, concentration camps\, and plac
 es of hiding as they share their ...
DTSTART;TZID=America/New_York:20251017T090000
DTEND;TZID=America/New_York:20251113T090000
END:VEVENT
END:VCALENDAR
