BEGIN:VCALENDAR
PRODID:-//eluceo/ical//2.0/EN
VERSION:2.0
CALSCALE:GREGORIAN
BEGIN:VEVENT
UID:198339541b44c7901dcf9d5f478adff7
DTSTAMP:20260425T152423Z
SUMMARY:The Disputation
DESCRIPTION:Jewish Life NJ\nOur Events \nhttps://jewishlifenj.org/our-event
 s/the-disputation-489431\n\nThe film is about a historical event in Judais
 m: a debate between Nachmanides and Friar Palo Christiani.  The debate is
  about the nature of the messiah and the differences between Judaism and C
 hristianity on the topic.  Christopher Lee plays King James\, who orders 
 the debate.  Rabbi Katz will lead a discussion after the film about the m
 essiah from the perspective of Reform Judaism.\n\n \n\nYou can read about
  the film at: https://www.imdb.com/title/tt0090950/?ref_=fn_all_ttl_1\n\n
  
DTSTART;TZID=America/New_York:20250504T190000
DTEND;TZID=America/New_York:20250504T210000
END:VEVENT
END:VCALENDAR
