BEGIN:VCALENDAR
PRODID:-//eluceo/ical//2.0/EN
VERSION:2.0
CALSCALE:GREGORIAN
BEGIN:VEVENT
UID:e3dec931973a041761894871a2973466
DTSTAMP:20260424T011744Z
SUMMARY:The 26th Annual Rutgers Jewish Film Festival
DESCRIPTION:Jewish Life NJ\nOur Events \nhttps://jewishlifenj.org/our-event
 s/the-26th-annual-rutgers-jewish-film-festival-1760717351-503059\n\nTicket
 s are on sale now for the Rutgers Jewish Film Festival\, which will featur
 e eleven thought-provoking and entertaining films\, dynamic discussions wi
 th filmmakers and special guests\, and New Jersey premieres. With films fr
 om the USA\, Israel\, Canada\, Finland\, Sweden\, Poland\, and Hungary\, t
 he festival offers new perspectives on Jewish history\, identity\, and exp
 erience. View website for all the details.
DTSTART;TZID=America/New_York:20251106T151500
DTEND;TZID=America/New_York:20251116T190000
END:VEVENT
END:VCALENDAR
