BEGIN:VCALENDAR
PRODID:-//eluceo/ical//2.0/EN
VERSION:2.0
CALSCALE:GREGORIAN
BEGIN:VEVENT
UID:1ef9cdde1c428657dc0c980e80c4a863
DTSTAMP:20260424T143456Z
SUMMARY:Texas Hold'em Tournament
DESCRIPTION:Jewish Life NJ\nOur Events \nhttps://jewishlifenj.org/our-event
 s/texas-holdem-tournament-500546\n\nShuffle up and deal! It’s time to t
 est your poker face at the JCC’s Texas Hold ’Em Tournament! Whether y
 ou’re a seasoned card shark or just looking to learn the ropes\, this is
  your chance to go all in on a fun night of high stakes (and even higher l
 aughs). Bring your best bluff\, enjoy great snacks\, and try to outlast th
 e competition at our friendly tables. Prizes go to the top finishers—but
  everyone walks away a winner with a night of great memories. Must be 21 o
 r older to partici...
DTSTART;TZID=America/New_York:20251016T183000
DTEND;TZID=America/New_York:20251016T233000
END:VEVENT
END:VCALENDAR
