BEGIN:VCALENDAR
PRODID:-//eluceo/ical//2.0/EN
VERSION:2.0
CALSCALE:GREGORIAN
BEGIN:VEVENT
UID:4f9ba39032a0a67dade34af185b7cc88
DTSTAMP:20260423T163730Z
SUMMARY:Temple Sholom Congregational Meeting
DESCRIPTION:Jewish Life NJ\nOur Events \nhttps://jewishlifenj.org/our-event
 s/temple-sholom-congregational-meeting-1748206740-492523\n\nTemple Sholom 
 Annual Congregational Meeting
DTSTART;TZID=America/New_York:20260519T193000
DTEND;TZID=America/New_York:20260519T213000
END:VEVENT
END:VCALENDAR
