BEGIN:VCALENDAR
PRODID:-//eluceo/ical//2.0/EN
VERSION:2.0
CALSCALE:GREGORIAN
BEGIN:VEVENT
UID:550cc8a8946815404d96ffdc8b0b2393
DTSTAMP:20260425T164543Z
SUMMARY:Temple Sholom Congregational Meeting
DESCRIPTION:Jewish Life NJ\nOur Events \nhttps://jewishlifenj.org/our-event
 s/temple-sholom-congregational-meeting-1714144610-465099\n\nTemple Sholom'
 s annual Congregational Meeting is being submitted to the Community Calend
 ar to avoid conflicting programming.
DTSTART;TZID=America/New_York:20250520T193000
DTEND;TZID=America/New_York:20250520T210000
END:VEVENT
END:VCALENDAR
