BEGIN:VCALENDAR
PRODID:-//eluceo/ical//2.0/EN
VERSION:2.0
CALSCALE:GREGORIAN
BEGIN:VEVENT
UID:c287867c64fc8e2c26d80eb0555fe760
DTSTAMP:20260425T003500Z
SUMMARY:TBE Through the Photographic Lens of Arthur Roswell
DESCRIPTION:Jewish Life NJ\nOur Events \nhttps://jewishlifenj.org/our-event
 s/tbe-through-the-photographic-lens-of-arthur-roswell-496521\n\nArthur Ros
 well\, a past president of Temple Beth-El and long-time leader of the com
 munity\, has been a prolific photographer for decades. His family has digi
 tized his photos and there is a treasure trove of photos of events from th
 roughout the decades.\n\nCome join Arthur as we poke around his photo libr
 ary and revisit events from Temple Beth-El’s past. Maybe you’ll recogn
 ize someone that we haven’t been able to name!\n\nThis event will take p
 lace at the temple with a Zoom option. RSVP t...
DTSTART;TZID=America/New_York:20250730T150000
DTEND;TZID=America/New_York:20250730T170000
END:VEVENT
END:VCALENDAR
