BEGIN:VCALENDAR
PRODID:-//eluceo/ical//2.0/EN
VERSION:2.0
CALSCALE:GREGORIAN
BEGIN:VEVENT
UID:b2223bfb7b0b8e6ba9c3951ea6bbd9be
DTSTAMP:20260425T010854Z
SUMMARY:TBE Reads “The Personal Librarian”
DESCRIPTION:Jewish Life NJ\nOur Events \nhttps://jewishlifenj.org/our-event
 s/tbe-reads-the-personal-librarian-496524\n\nIn her twenties\, Belle da Co
 sta Greene is hired by J. P. Morgan to curate a collection of rare manuscr
 ipts\, books\, and artwork for his newly built Pierpont Morgan Library. Be
 lle becomes a fixture in New York City society and one of the most powerfu
 l people in the art and book world\, known for her impeccable taste and sh
 rewd negotiating for critical works as she helps create a world-class coll
 ection.\n\nBut Belle has a secret\, one she must protect at all costs. She
  was born not Belle da Costa ...
DTSTART;TZID=America/New_York:20250903T191500
DTEND;TZID=America/New_York:20250903T204500
END:VEVENT
END:VCALENDAR
