BEGIN:VCALENDAR
PRODID:-//eluceo/ical//2.0/EN
VERSION:2.0
CALSCALE:GREGORIAN
BEGIN:VEVENT
UID:310fd10ce62e2f3ce62175bf322504ed
DTSTAMP:20260425T164556Z
SUMMARY:TBE Reads “The London Train”
DESCRIPTION:Jewish Life NJ\nOur Events \nhttps://jewishlifenj.org/our-event
 s/tbe-reads-the-london-train-503168\n\nTwo lives\, stretched between two c
 ities\, converge in a chance meeting with immediate and far-reaching conse
 quences in this compelling\, sophisticated tale from acclaimed New Yorker 
 writer Tessa Hadley\, author of Accidents in the Home and The Master Bedro
 om. As a father struggles to reestablish a relationship with his estranged
  daughter in London\, surrendering himself to an underground life of illeg
 al squats and counterculture friendships\, a wife decides she must flee he
 r suffocating marriage t...
DTSTART;TZID=America/New_York:20251117T191500
DTEND;TZID=America/New_York:20251117T204500
END:VEVENT
END:VCALENDAR
