BEGIN:VCALENDAR
PRODID:-//eluceo/ical//2.0/EN
VERSION:2.0
CALSCALE:GREGORIAN
BEGIN:VEVENT
UID:31283b7e931cbd8a91204473447b630b
DTSTAMP:20260425T224931Z
SUMMARY:TBE Reads "Dear Eliza" with author Andrea Stein & Pot-luck Dinner
DESCRIPTION:Jewish Life NJ\nOur Events \nhttps://jewishlifenj.org/our-event
 s/tbe-reads-dear-eliza-with-author-andrea-stein-pot-luck-dinner-490783\n\n
 TBE Reads welcomes Andrea Stein\, author of Dear Eliza\, for a discussion 
 of her new book.\n\nCome early for a Pot-luck Dinner! Otherwise\, the book
  discussion begins at 7:15 p.m.\n\nEliza’s world broke apart when she wa
 s sixteen and her mom died of cancer. Now\, years later\, she has rebuilt 
 her life to include a director-of-development job at a nonprofit\, a Manha
 ttan apartment\, and an easy-on-the-eyes bedroom buddy—just the kind of 
 no-strings relationship she wants\, even if it’s less than ...
DTSTART;TZID=America/New_York:20250521T180000
DTEND;TZID=America/New_York:20250521T210000
END:VEVENT
END:VCALENDAR
