BEGIN:VCALENDAR
PRODID:-//eluceo/ical//2.0/EN
VERSION:2.0
CALSCALE:GREGORIAN
BEGIN:VEVENT
UID:c79017fdb004c18ea099c41c278ba581
DTSTAMP:20260424T044106Z
SUMMARY:Sukkah Squad: Build & Decorate
DESCRIPTION:Jewish Life NJ\nOur Events \nhttps://jewishlifenj.org/our-event
 s/sukkah-squad-build-decorate-500538\n\nJoin teens from across the area\, 
 whether you are involved in the JCC\, BBYO\, a Temple or its your first ti
 me doing something – we want you to join! This will be a hands-on event 
 of building and decorating our community sukkah. Whether you’re a pro wi
 th a hammer or just love adding creative touches\, your help will make our
  sukkah a warm and welcoming space for the holiday. Bring your energy and 
 creativity.\n\nNo Sukkah building experience needed!\n\nBuild with Us
DTSTART;TZID=America/New_York:20251005T120000
DTEND;TZID=America/New_York:20251005T130000
END:VEVENT
END:VCALENDAR
