BEGIN:VCALENDAR
PRODID:-//eluceo/ical//2.0/EN
VERSION:2.0
CALSCALE:GREGORIAN
BEGIN:VEVENT
UID:4369ecf217b8253a6899694031dd8dad
DTSTAMP:20260424T064434Z
SUMMARY:SMOOCHY S'mores & Cinema in the Sukkah 2025
DESCRIPTION:Jewish Life NJ\nOur Events \nhttps://jewishlifenj.org/our-event
 s/smoochy-smores-cinema-in-the-sukkah-2025-501164\n\n
DTSTART;TZID=America/New_York:20251011T190000
DTEND;TZID=America/New_York:20251011T220000
END:VEVENT
END:VCALENDAR
