BEGIN:VCALENDAR
PRODID:-//eluceo/ical//2.0/EN
VERSION:2.0
CALSCALE:GREGORIAN
BEGIN:VEVENT
UID:6a6be31f5bf498befbec4b4a77c5a13d
DTSTAMP:20260423T212715Z
SUMMARY:Smoochy Midnight Run
DESCRIPTION:Jewish Life NJ\nOur Events \nhttps://jewishlifenj.org/our-event
 s/smoochy-midnight-run-505201\n\nWe’re excited to invite teens in grades
  8–12 to take part in this year’s Midnight Run—a meaningful overnigh
 t experience that combines community service\, social action\, and friends
 hip!\n\nWhat is the Midnight Run?\nMidnight Run is a nonprofit organizatio
 n that coordinates more than 1\,000 relief missions each year to support u
 nhoused individuals in New York City. Volunteers from synagogues\, churche
 s\, schools\, and community groups work together to distribute food\, warm
  clothing\, blankets...
DTSTART;TZID=America/New_York:20251220T163000
DTEND;TZID=America/New_York:20251221T083000
END:VEVENT
END:VCALENDAR
