BEGIN:VCALENDAR
PRODID:-//eluceo/ical//2.0/EN
VERSION:2.0
CALSCALE:GREGORIAN
BEGIN:VEVENT
UID:007c27f7ce56a4991c91220dade89eda
DTSTAMP:20260424T095736Z
SUMMARY:Shoah Ambassadors\, a Learning Through Experience Program
DESCRIPTION:Jewish Life NJ\nOur Events \nhttps://jewishlifenj.org/our-event
 s/shoah-ambassadors-a-learning-through-experience-program-498258\n\nShoah 
 Ambassadors\, a Learning Through Experience Program. Shoah Ambassadors is
  a remarkable documentary film directed and produced by Keith Famie\, brin
 ging a new understanding of the Holocaust. The film focuses on two young a
 dult ambassadors\, Curtis Bates and Hailey Callahan. We travel with Curtis
  and Hailey through their educational journey in learning about the Holoca
 ust\, as they process what they have learned\, and then respond through th
 eir own unique artistic expression. A Q&A will follo...
DTSTART;TZID=America/New_York:20251112T100000
DTEND;TZID=America/New_York:20251112T113000
END:VEVENT
END:VCALENDAR
