BEGIN:VCALENDAR
PRODID:-//eluceo/ical//2.0/EN
VERSION:2.0
CALSCALE:GREGORIAN
BEGIN:VEVENT
UID:1622c978f6770baee14b58cf4d41dd26
DTSTAMP:20260425T181356Z
SUMMARY:Shabbat La Vida Loca
DESCRIPTION:Jewish Life NJ\nOur Events \nhttps://jewishlifenj.org/our-event
 s/shabbat-la-vida-loca-1742325996-488424\n\nTemple Har Shalom invites you 
 to come celebrate the Jewish community of Latin America at a very special 
 musical Shabbat on Friday\, March 28th at 7:00 PM.  At our "Shabbat La Vid
 a Loca"\,  Cantor Marina Shemesh will be sharing her experiences from "A M
 usical Jewish Heritage Journey to Argentina" led by the Cantors of the ACC
 .  This Shabbat Service will feature joyous and uplifting Latin American r
 hythms led by Cantor Shemesh\, Cantor Mark Biddelman\,  and other guest mu
 sicians. We will continue...
DTSTART;TZID=America/New_York:20250328T190000
DTEND;TZID=America/New_York:20250328T210000
END:VEVENT
END:VCALENDAR
