BEGIN:VCALENDAR
PRODID:-//eluceo/ical//2.0/EN
VERSION:2.0
CALSCALE:GREGORIAN
BEGIN:VEVENT
UID:00498f31391a3dca41b03699be137b2e
DTSTAMP:20260424T084130Z
SUMMARY:Saving Abigail - An Event to Commemorate October 7
DESCRIPTION:Jewish Life NJ\nOur Events \nhttps://jewishlifenj.org/our-event
 s/saving-abigail-an-event-to-commemorate-october-7-500152\n\nOn October 7\
 , 2023\, three-year-old Abigail Mor Edan was abducted by Hamas after her
  community was brutally attacked. Her parents were murdered in front of th
 eir children\, and Abigail\, the youngest\, was taken across the border in
 to Gaza. Her story gripped the world\, symbolizing the deep human cost of 
 that day.\n\nJoin us for Saving Abigail\, featuring Liz Hirsh Naftali\, 
 Abigail’s great-aunt and a leading Hostage Release Advocate. Liz has be
 en at the forefront of international efforts to ...
DTSTART;TZID=America/New_York:20251023T190000
DTEND;TZID=America/New_York:20251023T203000
END:VEVENT
END:VCALENDAR
