BEGIN:VCALENDAR
PRODID:-//eluceo/ical//2.0/EN
VERSION:2.0
CALSCALE:GREGORIAN
BEGIN:VEVENT
UID:e937ebc26a6996a60a42e72bc34b8ad8
DTSTAMP:20260423T122943Z
SUMMARY:Rutgers Hillel Signature Celebration Gala
DESCRIPTION:Jewish Life NJ\nOur Events \nhttps://jewishlifenj.org/our-event
 s/rutgers-hillel-signature-celebration-gala-1761857241-503921\n\n(please c
 hange it from 4/28 to 4/26 thank you!
DTSTART;TZID=America/New_York:20260426T110000
DTEND;TZID=America/New_York:20260426T150000
END:VEVENT
END:VCALENDAR
