BEGIN:VCALENDAR
PRODID:-//eluceo/ical//2.0/EN
VERSION:2.0
CALSCALE:GREGORIAN
BEGIN:VEVENT
UID:d0e4510e6b0a35690fa4234835e08214
DTSTAMP:20260425T182019Z
SUMMARY:Rutgers Hillel Annual Gala
DESCRIPTION:Jewish Life NJ\nOur Events \nhttps://jewishlifenj.org/our-event
 s/rutgers-hillel-annual-gala-1720804725-471808\n\nFundraising Dinner in su
 pport of Rutgers Hillel
DTSTART;TZID=America/New_York:20250428T180000
DTEND;TZID=America/New_York:20250428T210000
END:VEVENT
END:VCALENDAR
