BEGIN:VCALENDAR
PRODID:-//eluceo/ical//2.0/EN
VERSION:2.0
CALSCALE:GREGORIAN
BEGIN:VEVENT
UID:171eeb396b4e52ca9081ad96b9df5fef
DTSTAMP:20260424T064329Z
SUMMARY:Reconnecting Jewishly with Passion & Purpose
DESCRIPTION:Jewish Life NJ\nOur Events \nhttps://jewishlifenj.org/our-event
 s/reconnecting-jewishly-with-passion--purpose-1757440485-500102\n\nThe Hig
 h Holidays gave us a powerful opportunity to pause\, reflect on the past y
 ear\, and consider how we can grow in the year ahead. While it was a serio
 us and introspective season\, it was also filled with hope and the promise
  of a fresh start. Emerging from this special time\, we carry forward the 
 gift of reconnecting with our passion and purpose. We ask ourselves\, “H
 ow can I be of service? What is my Shelihut? What is my assignment for thi
 s life?" Rabbi Annie Lewis will guide us in explori...
DTSTART;TZID=America/New_York:20251022T190000
DTEND;TZID=America/New_York:20251022T200000
END:VEVENT
END:VCALENDAR
