BEGIN:VCALENDAR
PRODID:-//eluceo/ical//2.0/EN
VERSION:2.0
CALSCALE:GREGORIAN
BEGIN:VEVENT
UID:b31197cf8ad67758b414872385a559cc
DTSTAMP:20260424T064359Z
SUMMARY:Readying for the Yamim Nora’im with Rabbi Diamondstein and Cantor
  Wallach
DESCRIPTION:Jewish Life NJ\nOur Events \nhttps://jewishlifenj.org/our-event
 s/readying-for-the-yamim-noraim-with-rabbi-diamondstein-and-cantor-wallach
 -499347\n\nFour Sessions with Rotating Clergy: Tuesday\, September 2\, 9\,
  16\, & 30\; 7:30 to 9:00 p.m.\n\nRabbi Diamondstein and Cantor Wallach wa
 nt you to feel your most prepared for the holiest days of our calendar. In
  this four-part series\, learners will explore everything from how we prep
 are for the Days of Awe to the meaning of atonement for this time and for 
 each of us through the lens of our rich and evocative High Holy Days’ mu
 sic and liturgy.\n\nSession 1 – Tuesday\, September 2 at 7:30 p.m. with.
 ..
DTSTART;TZID=America/New_York:20250902T193000
DTEND;TZID=America/New_York:20250902T210000
END:VEVENT
END:VCALENDAR
