BEGIN:VCALENDAR
PRODID:-//eluceo/ical//2.0/EN
VERSION:2.0
CALSCALE:GREGORIAN
BEGIN:VEVENT
UID:9b34f6c9a3f70039910c5c3da718f03c
DTSTAMP:20260425T181415Z
SUMMARY:Purim Masquerade
DESCRIPTION:Jewish Life NJ\nOur Events \nhttps://jewishlifenj.org/our-event
 s/purim-masquerade-1729548168-478860\n\nPresented by the Sisterhood of Tem
 ple Sholom
DTSTART;TZID=America/New_York:20250315T200000
DTEND;TZID=America/New_York:20250315T230000
END:VEVENT
END:VCALENDAR
