BEGIN:VCALENDAR
PRODID:-//eluceo/ical//2.0/EN
VERSION:2.0
CALSCALE:GREGORIAN
BEGIN:VEVENT
UID:7a3bf752b3ddd24abe672f3a5761eb61
DTSTAMP:20260424T222701Z
SUMMARY:Open Mic Night
DESCRIPTION:Jewish Life NJ\nOur Events \nhttps://jewishlifenj.org/our-event
 s/open-mic-night-503212\n\nWe are inviting musicians (and singers) to sign
  up and perform either covers or their own original songs. Performances ar
 e usually limited to about three songs.\n\nJeffrey Ogden MC\n\n\nFree Admi
 ssion\n\n\nFor questions or to register\, email Marilyn or call 908-443
 -9018
DTSTART;TZID=America/New_York:20251106T180000
DTEND;TZID=America/New_York:20251106T200000
END:VEVENT
END:VCALENDAR
