BEGIN:VCALENDAR
PRODID:-//eluceo/ical//2.0/EN
VERSION:2.0
CALSCALE:GREGORIAN
BEGIN:VEVENT
UID:98c6fa21f83569763113fcbb576aca63
DTSTAMP:20260425T225220Z
SUMMARY:Mimouna Celebration
DESCRIPTION:Jewish Life NJ\nOur Events \nhttps://jewishlifenj.org/our-event
 s/mimouna-celebration-489784\n\nParty for the whole family. Darbuka Live\,
  Henna Tattoos\, Crafts\, Dairy Dinner\, Moroccan Treats\n\n​Mimouna is
  a traditional Moroccan Jewish celebration held immediately after Passover
 \, marking the return to eating leavened foods prohibited during the holid
 ay.It's a joyous occasion that brings together family\, friends\, and neig
 hbors to share delicious sweets\, music\, and cultural traditions.\n\nThe 
 event is family-friendly\, offering activities such as storytelling\, trad
 itional music\, and dan...
DTSTART;TZID=America/New_York:20250421T180000
DTEND;TZID=America/New_York:20250421T200000
END:VEVENT
END:VCALENDAR
