BEGIN:VCALENDAR
PRODID:-//eluceo/ical//2.0/EN
VERSION:2.0
CALSCALE:GREGORIAN
BEGIN:VEVENT
UID:a60f60f5e9bd7bca5b2f8f0e9fbb3dad
DTSTAMP:20260424T061444Z
SUMMARY:Mah Jongg Tournament
DESCRIPTION:Jewish Life NJ\nOur Events \nhttps://jewishlifenj.org/our-event
 s/mah-jongg-tournament-oct26-504747\n\nCalling all Mah Jongg Enthusiasts!\
 n\nReady to put your Mah Jongg skills to the test? Join us for the SSBJCC
 ’s Annual Mah Jongg Tournament\, a full day of friendly competition\, s
 trategy\, and community spirit! Whether you’re a seasoned player or simp
 ly love the tiles’ click and clack\, this tournament is your chance to s
 how off your best moves. Enjoy seven rounds of exciting play\, a delicio
 us breakfast and lunch\, and the thrill of competing for prizes and braggi
 ng rights. Connect with f...
DTSTART;TZID=America/New_York:20261018T084500
DTEND;TZID=America/New_York:20261018T160000
END:VEVENT
END:VCALENDAR
