BEGIN:VCALENDAR
PRODID:-//eluceo/ical//2.0/EN
VERSION:2.0
CALSCALE:GREGORIAN
BEGIN:VEVENT
UID:cdb22cd0ff0fa7709bd7eba765c73eb1
DTSTAMP:20260423T172459Z
SUMMARY:Mah Jongg Tournament March 2026
DESCRIPTION:Jewish Life NJ\nOur Events \nhttps://jewishlifenj.org/our-event
 s/mah-jongg-tournament-march-503829\n\nCalling all Mah Jongg Enthusiasts!\
 n\nGear up for intense competition at our upcoming tournament. Test your s
 trategic prowess against seasoned players\, vie for top prizes\, and immer
 se yourself in the exhilarating world of competitive Mahjongg. Secure your
  spot now for a day of fierce matchups.\n\nNOW FEATURING 7 ROUNDS OF PLAY\
 n\n\n$60.00 JCC Member Fee/$65.00 for Community Members\n\nFee includes 7 
 rounds of play\, breakfast\, lunch\, and nosh.\n\n\nDoors Open at 8:45 AM\
 nTournament Pla...
DTSTART;TZID=America/New_York:20260315T083000
DTEND;TZID=America/New_York:20260315T160000
END:VEVENT
END:VCALENDAR
