BEGIN:VCALENDAR
PRODID:-//eluceo/ical//2.0/EN
VERSION:2.0
CALSCALE:GREGORIAN
BEGIN:VEVENT
UID:6baeedf5cdfeea78316b58ad95be22f6
DTSTAMP:20260425T181335Z
SUMMARY:Maddie the Mitzvah Clown with Karen Rostoker-Gruber & Rabbi Ron Isa
 acs
DESCRIPTION:Jewish Life NJ\nOur Events \nhttps://jewishlifenj.org/our-event
 s/maddie-the-mitzvah-clown-with-karen-rostoker-gruber--rabbi-ron-isaacs-17
 37584502-484795\n\nKaren Rostoker-Gruber\, her puppet\, Maria\, and Rabbi 
 Ron Isaacs bring to life the book\, "Maddie the Mitzvah Clown" through rea
 ding\, acting\, games\, and activities.
DTSTART;TZID=America/New_York:20250223T110000
DTEND;TZID=America/New_York:20250223T120000
END:VEVENT
END:VCALENDAR
