BEGIN:VCALENDAR
PRODID:-//eluceo/ical//2.0/EN
VERSION:2.0
CALSCALE:GREGORIAN
BEGIN:VEVENT
UID:5f0c4e13039aa0b08cbd54841abecfa3
DTSTAMP:20260425T032448Z
SUMMARY:Kids Night Out
DESCRIPTION:Jewish Life NJ\nOur Events \nhttps://jewishlifenj.org/our-event
 s/kids-night-out-500536\n\nJoin us for the first Kids Night Out of the sch
 ool year on September 27\, 2025!\n\nBring your camp and school friends tog
 ether for an unforgettable evening packed with swimming\, sports\, pizza d
 inner & dessert\, and non-stop fun! Our supervised program will have every
 one splashing in the pool\, shooting hoops and playing games in the gym\, 
 and filling up on delicious pizza and sweet treats. Whether you're diving 
 into the pool or diving into dessert\, this is the perfect way to reconnec
 t after the s...
DTSTART;TZID=America/New_York:20250927T173000
DTEND;TZID=America/New_York:20250927T203000
END:VEVENT
END:VCALENDAR
