BEGIN:VCALENDAR
PRODID:-//eluceo/ical//2.0/EN
VERSION:2.0
CALSCALE:GREGORIAN
BEGIN:VEVENT
UID:fb6e85be58db952feb7e10fa1e082ca3
DTSTAMP:20260423T221935Z
SUMMARY:JFS Annual Meeting
DESCRIPTION:Jewish Life NJ\nOur Events \nhttps://jewishlifenj.org/our-event
 s/jfs-annual-meeting-future-514422\n\nJFS Annual Meeting
DTSTART;TZID=America/New_York:20260611T190000
DTEND;TZID=America/New_York:20260611T210000
END:VEVENT
END:VCALENDAR
