BEGIN:VCALENDAR
PRODID:-//eluceo/ical//2.0/EN
VERSION:2.0
CALSCALE:GREGORIAN
BEGIN:VEVENT
UID:055ef8986f3db39f3eba1b952cf8253e
DTSTAMP:20260424T120845Z
SUMMARY:JFriends Bookclub: The Names by Florence Knapp
DESCRIPTION:Jewish Life NJ\nOur Events \nhttps://jewishlifenj.org/our-event
 s/jfriends-bookclub-the-names-by-florence-knapp-500148\n\nJoin fellow read
 ers in person for lively discussions\, thought‑provoking questions\, and
  warm community connection. All are welcome—whether you’re a seasoned 
 book lover or just looking for your next great read.\n\nDiscover The Name
 s.\n\n\nBook Synopsis:\n\nIn the wake of a catastrophic storm\, Cora sets 
 off with her nine-year-old daughter\, Maia\, to register her son's birth. 
 Her husband\, Gordon\, a local doctor\, respected in the community but a t
 errifying and controlling presence at home\, i...
DTSTART;TZID=America/New_York:20250918T190000
DTEND;TZID=America/New_York:20250918T200000
END:VEVENT
END:VCALENDAR
