BEGIN:VCALENDAR
PRODID:-//eluceo/ical//2.0/EN
VERSION:2.0
CALSCALE:GREGORIAN
BEGIN:VEVENT
UID:f0ad41d8568fcb83286e0b02b78bdea0
DTSTAMP:20260425T181405Z
SUMMARY:JFEDWCNJ is hosting AISH HA'AM's documentary premier\, Frontline Wa
 rrior
DESCRIPTION:Jewish Life NJ\nOur Events \nhttps://jewishlifenj.org/our-event
 s/jfedwcnj-is-hosting-aish-haams-documentary-premier-frontline-warrior-486
 435\n\nJewish Federation of West-Central New Jersey is hosting AISH HA'AM'
 s upcoming documentary film premier\, Frontline Warriors\,which sheds lig
 ht on the rising tide of antisemitism on university campuses across the Un
 ited States. The film gives a window into this pervasive issue by followin
 g the story of three Jewish student leaders at Harvard\, Columbia\, and UC
 LA\, who faced and stood up to the Jew hatred on their campuses.\n\nThe fi
 lm not only chronicles their courageous stand against hatred\, but...
DTSTART;TZID=America/New_York:20250311T190000
DTEND;TZID=America/New_York:20250311T210000
END:VEVENT
END:VCALENDAR
