BEGIN:VCALENDAR
PRODID:-//eluceo/ical//2.0/EN
VERSION:2.0
CALSCALE:GREGORIAN
BEGIN:VEVENT
UID:9619a7c5ebae028cfca8bbff709cfbd0
DTSTAMP:20260425T182030Z
SUMMARY:Jews of the Wild West
DESCRIPTION:Jewish Life NJ\nOur Events \nhttps://jewishlifenj.org/our-event
 s/jews-of-the-wild-west-489810\n\nJoin award-winning director Amanda Kins
 ey for a special screening of Jews of the Wild West\, followed by an eng
 aging Q&A session. This feature-length documentary explores the rich and 
 often overlooked history of Jewish pioneers in the American West. Through 
 stories of resilience\, identity\, and innovation\, the film sheds light o
 n the significant contributions Jewish immigrants made in shaping the West
 ern frontier.\n\nAt a time when antisemitism is on the rise\, Jews of the
  Wild West serves...
DTSTART;TZID=America/New_York:20250514T183000
DTEND;TZID=America/New_York:20250514T212000
END:VEVENT
END:VCALENDAR
