BEGIN:VCALENDAR
PRODID:-//eluceo/ical//2.0/EN
VERSION:2.0
CALSCALE:GREGORIAN
BEGIN:VEVENT
UID:5cfb8a264e0f54d3bd926545705376d5
DTSTAMP:20260424T011635Z
SUMMARY:Jewish LIFE Film Series: “Aimee & Jaguar”
DESCRIPTION:Jewish Life NJ\nOur Events \nhttps://jewishlifenj.org/our-event
 s/jewish-life-film-series-aimee-jaguar-503169\n\nIn 1943\, while the Allie
 s are bombing Berlin and the Gestapo is purging the capital of Jews\, a da
 ngerous love affair blossoms between two women. One of them\, Lilly Wust (
 Nowhere in Africa’s Juliane Köhler)\, married and the mother of four so
 ns\, enjoys the privileges of her stature as an exemplar of Nazi motherhoo
 d. For her\, this affair will be the most decisive experience of her life.
  For the other woman\, Felice Schragenheim (Maria Schrader)\, a Jewess and
  member of the underground\, their lo...
DTSTART;TZID=America/New_York:20251122T190000
DTEND;TZID=America/New_York:20251122T210000
END:VEVENT
END:VCALENDAR
