BEGIN:VCALENDAR
PRODID:-//eluceo/ical//2.0/EN
VERSION:2.0
CALSCALE:GREGORIAN
BEGIN:VEVENT
UID:70a5de17a7cf7291a2a79e963306908f
DTSTAMP:20260424T064418Z
SUMMARY:Jewish Film Series: "Checkout"
DESCRIPTION:Jewish Life NJ\nOur Events \nhttps://jewishlifenj.org/our-event
 s/jewish-film-series-checkout-1757081261-499910\n\nNot quite a film\, "Che
 ckout" is an Israeli TV show about life in a supermarket. We will watch tw
 o episodes of this very funny show and discuss the themes. It is good to s
 tart the year with a laugh.  This event is sponsored by TBE Sisterhood. RS
 VP to chairfilmgroup@templebethelnj.org.
DTSTART;TZID=America/New_York:20251018T190000
DTEND;TZID=America/New_York:20251018T210000
END:VEVENT
END:VCALENDAR
