BEGIN:VCALENDAR
PRODID:-//eluceo/ical//2.0/EN
VERSION:2.0
CALSCALE:GREGORIAN
BEGIN:VEVENT
UID:1d1b686a84719694b0d4323e481d96d7
DTSTAMP:20260424T044056Z
SUMMARY:Jewish Federation Super Sunday
DESCRIPTION:Jewish Life NJ\nOur Events \nhttps://jewishlifenj.org/our-event
 s/jewish-federation-super-sunday-480028\n\nSuper Sunday - A Day of Action\
 , Impact\, and Unity!\n\n1:30pm-3:30pm - Take Action\, Have an Impact\, Un
 ite with Community. Volunteer through a variety of activities for all ages
 . Make cards for IDF soldiers\, write notes to community members\, & conne
 ct through community impact calls.\n\n4:00pm - Be inspired by our guest sp
 eaker from Friends of the Lone Soldier - Michael Levin Center
DTSTART;TZID=America/New_York:20251102T133000
DTEND;TZID=America/New_York:20251102T170000
END:VEVENT
END:VCALENDAR
