BEGIN:VCALENDAR
PRODID:-//eluceo/ical//2.0/EN
VERSION:2.0
CALSCALE:GREGORIAN
BEGIN:VEVENT
UID:019bc95c10e8fa5830ec98e27fd96179
DTSTAMP:20260423T160245Z
SUMMARY:(Jewish) Charm Necklace Workshop with Ariel Tidhar
DESCRIPTION:Jewish Life NJ\nOur Events \nhttps://jewishlifenj.org/our-event
 s/jewish-charm-necklace-workshop-with-ariel-tidhar-514286\n\nJoin us for a
  hands-on creative evening with jewelry designer Ariel Tidhar. You’ll d
 esign and assemble your own personalized charm necklace from a curated col
 lection of charms and chains. It is the perfect girls night and you’ll l
 eave with something meaningful and uniquely beautiful. *This event is the 
 final program as part of our Yom series.\n\n\nCost: $36.00/person\nAge: 
 18+ (you need to have good hand dexterity to use jewelry tools) \n\n\nReg
 ister\n\nSponsored in-part by the Jewi...
DTSTART;TZID=America/New_York:20260507T190000
DTEND;TZID=America/New_York:20260507T210000
END:VEVENT
END:VCALENDAR
