BEGIN:VCALENDAR
PRODID:-//eluceo/ical//2.0/EN
VERSION:2.0
CALSCALE:GREGORIAN
BEGIN:VEVENT
UID:33f36df0c979688d0bfc21060e532c43
DTSTAMP:20260423T204210Z
SUMMARY:Jewish Books in the Islamic World: From the Middle Ages Until Moder
 n Times
DESCRIPTION:Jewish Life NJ\nOur Events \nhttps://jewishlifenj.org/our-event
 s/jewish-books-in-the-islamic-world-from-the-middle-ages-until-modern-time
 s-1766171060-507346\n\nDr. Noam Sienna\, the Bildner Center’s Jerome and
  Lorraine Aresty Visiting Scholar\, will offer a window into Jewish life i
 n the Islamic world\, from medieval Cairo to modern-day North Africa\, thr
 ough an examination of Jewish books and other written texts. Texts produce
 d by Jews over the centuries in Egypt\, the Ottoman Mediterranean\, North 
 Africa\, and the Middle East shed important light on the dynamics of inter
 religious encounters among Jews\, Christians\, and Muslims\; local relatio
 ns with the ...
DTSTART;TZID=America/New_York:20260128T190000
DTEND;TZID=America/New_York:20260128T200000
END:VEVENT
END:VCALENDAR
