BEGIN:VCALENDAR
PRODID:-//eluceo/ical//2.0/EN
VERSION:2.0
CALSCALE:GREGORIAN
BEGIN:VEVENT
UID:7c4f3ed4ebf3abd965936cc6bb8d8779
DTSTAMP:20260423T163654Z
SUMMARY:JCFGM Annual Life & Legacy Celebration
DESCRIPTION:Jewish Life NJ\nOur Events \nhttps://jewishlifenj.org/our-event
 s/jcfgm-annual-life--legacy-celebration-1751379594-494742\n\nJewish Commun
 ity Foundation of Greater Mercer Annual Life & Legacy Celebration
DTSTART;TZID=America/New_York:20260519T180000
DTEND;TZID=America/New_York:20260519T203000
END:VEVENT
END:VCALENDAR
