BEGIN:VCALENDAR
PRODID:-//eluceo/ical//2.0/EN
VERSION:2.0
CALSCALE:GREGORIAN
BEGIN:VEVENT
UID:e585a4bbe72440f840f62f42c641f1cb
DTSTAMP:20260425T165952Z
SUMMARY:JCC Annual Meeting
DESCRIPTION:Jewish Life NJ\nOur Events \nhttps://jewishlifenj.org/our-event
 s/jcc-annual-meeting-489806\n\nCelebrate another year of the JCC's Impact 
 on the community.  All are welcome.
DTSTART;TZID=America/New_York:20250513T180000
DTEND;TZID=America/New_York:20250513T200000
END:VEVENT
END:VCALENDAR
