BEGIN:VCALENDAR
PRODID:-//eluceo/ical//2.0/EN
VERSION:2.0
CALSCALE:GREGORIAN
BEGIN:VEVENT
UID:fc2120c5656892945c63d6bb8bbc0aea
DTSTAMP:20260423T192624Z
SUMMARY:Israel in Focus
DESCRIPTION:Jewish Life NJ\nOur Events \nhttps://jewishlifenj.org/our-event
 s/israel-in-focus-508742\n\nIsrael in Focus\n\n\n\n\n\nUnderstanding the N
 arrative War:\n\n\n\nHow social media shapes public perception. Insights t
 o navigate rising online antisemitism\n\n\n\nMarch 10\, 2026\n\n\n\n7:00 p
 m\n\n\n\nBridgewater\,NJ\n\n\n\nFree Community Event\n\n\n\nRegistration i
 s required
DTSTART;TZID=America/New_York:20260310T190000
DTEND;TZID=America/New_York:20260310T210000
END:VEVENT
END:VCALENDAR
