BEGIN:VCALENDAR
PRODID:-//eluceo/ical//2.0/EN
VERSION:2.0
CALSCALE:GREGORIAN
BEGIN:VEVENT
UID:f315d489ebaa046466911b5b4d6634e2
DTSTAMP:20260426T015304Z
SUMMARY:Israel Art Festival
DESCRIPTION:Jewish Life NJ\nOur Events \nhttps://jewishlifenj.org/our-event
 s/israel-art-festival-1736802187-484069\n\nAs tourism has dried up in Isra
 el since the war in Gaza began\, artists and artisans are struggling to se
 ll their work. A group of thirty artists will be coming to America and bri
 nging pieces of their work. They will be at a temple in a Chicago suburb\,
  and at Temple Beth El of Somerset before returning home. This event will 
 be an opportunity to purchase beautiful art for your home or for gifts\, w
 hile helping Israel in its time of need. The festival will be open to the 
 public from 7:45 to 10...
DTSTART;TZID=America/New_York:20250301T194500
DTEND;TZID=America/New_York:20250302T173000
END:VEVENT
END:VCALENDAR
