BEGIN:VCALENDAR
PRODID:-//eluceo/ical//2.0/EN
VERSION:2.0
CALSCALE:GREGORIAN
BEGIN:VEVENT
UID:16fb191d8875de197fe23b87f02ace24
DTSTAMP:20260423T155940Z
SUMMARY:Irma Horowitz Film Series: The Floaters
DESCRIPTION:Jewish Life NJ\nOur Events \nhttps://jewishlifenj.org/our-event
 s/irma-horowitz-film-series-the-floaters-514284\n\nGet ready for a night o
 f nostalgia\, heart\, and a little camp chaos.\n\nThe Floaters is a comed
 y-drama with plenty of humor\, warmth\, and summer camp spirit. The film f
 ollows a struggling musician who takes a job mentoring a group of misfit t
 eens at Camp Daveed\, a Jewish summer camp fighting to stay afloat while f
 acing financial trouble and pressure from a rival camp. What follows is a 
 story about connection\, second chances\, and the kind of unexpected teamw
 ork that can only happen at camp.\n\n...
DTSTART;TZID=America/New_York:20260513T190000
DTEND;TZID=America/New_York:20260513T210000
END:VEVENT
END:VCALENDAR
